BEGIN:VCALENDAR
VERSION:2.0
PRODID:-//Career Development Centre - ECPv5.9.1//NONSGML v1.0//EN
CALSCALE:GREGORIAN
METHOD:PUBLISH
X-WR-CALNAME:Career Development Centre
X-ORIGINAL-URL:https://placements.sscbs.du.ac.in
X-WR-CALDESC:Events for Career Development Centre
BEGIN:VTIMEZONE
TZID:Asia/Kolkata
BEGIN:STANDARD
TZOFFSETFROM:+0530
TZOFFSETTO:+0530
TZNAME:IST
DTSTART:20230101T000000
END:STANDARD
END:VTIMEZONE
BEGIN:VEVENT
DTSTART;TZID=Asia/Kolkata:20230418T120000
DTEND;TZID=Asia/Kolkata:20230418T130000
DTSTAMP:20260423T021815
CREATED:20230416T124410Z
LAST-MODIFIED:20240206T124639Z
UID:7448-1681819200-1681822800@placements.sscbs.du.ac.in
SUMMARY:Speaker Session with Srishti Sharma
DESCRIPTION:Event Report
URL:https://placements.sscbs.du.ac.in/event/speaker-session-with-srishti-sharma/
LOCATION:7th Floor Seminar Hall
ATTACH;FMTTYPE=image/png:https://placements.sscbs.du.ac.in/wp-content/uploads/2024/02/Screenshot-2024-02-06-181511.png
END:VEVENT
END:VCALENDAR