BEGIN:VCALENDAR
VERSION:2.0
PRODID:-//Career Development Centre - ECPv5.9.1//NONSGML v1.0//EN
CALSCALE:GREGORIAN
METHOD:PUBLISH
X-WR-CALNAME:Career Development Centre
X-ORIGINAL-URL:https://placements.sscbs.du.ac.in
X-WR-CALDESC:Events for Career Development Centre
BEGIN:VTIMEZONE
TZID:Asia/Kolkata
BEGIN:STANDARD
TZOFFSETFROM:+0530
TZOFFSETTO:+0530
TZNAME:IST
DTSTART:20230101T000000
END:STANDARD
END:VTIMEZONE
BEGIN:VEVENT
DTSTART;TZID=Asia/Kolkata:20230417T123000
DTEND;TZID=Asia/Kolkata:20230417T133000
DTSTAMP:20260423T021816
CREATED:20230415T050225Z
LAST-MODIFIED:20240207T050513Z
UID:7471-1681734600-1681738200@placements.sscbs.du.ac.in
SUMMARY:Speaker Session with Riya Ahuja
DESCRIPTION:Event Report
URL:https://placements.sscbs.du.ac.in/event/speaker-session-with-riya-ahuja/
LOCATION:5th Floor Seminar Hall
ATTACH;FMTTYPE=image/png:https://placements.sscbs.du.ac.in/wp-content/uploads/2024/02/Speaker.png
END:VEVENT
END:VCALENDAR