BEGIN:VCALENDAR
VERSION:2.0
PRODID:-//Career Development Centre - ECPv5.9.1//NONSGML v1.0//EN
CALSCALE:GREGORIAN
METHOD:PUBLISH
X-WR-CALNAME:Career Development Centre
X-ORIGINAL-URL:https://placements.sscbs.du.ac.in
X-WR-CALDESC:Events for Career Development Centre
BEGIN:VTIMEZONE
TZID:Asia/Kolkata
BEGIN:STANDARD
TZOFFSETFROM:+0530
TZOFFSETTO:+0530
TZNAME:IST
DTSTART:20230101T000000
END:STANDARD
END:VTIMEZONE
BEGIN:VEVENT
DTSTART;TZID=Asia/Kolkata:20230112T120000
DTEND;TZID=Asia/Kolkata:20230112T130000
DTSTAMP:20260419T200944
CREATED:20230110T123012Z
LAST-MODIFIED:20240206T123233Z
UID:7429-1673524800-1673528400@placements.sscbs.du.ac.in
SUMMARY:Speaker Session with Pranav Oberoi\, Angel Investor
DESCRIPTION:Event Report
URL:https://placements.sscbs.du.ac.in/event/speaker-session-with-pranav-oberoi-angel-investor/
LOCATION:7th Floor Seminar Hall
ATTACH;FMTTYPE=image/jpeg:https://placements.sscbs.du.ac.in/wp-content/uploads/2024/02/Pranav-Oberoi-1.jpg
END:VEVENT
END:VCALENDAR