BEGIN:VCALENDAR
VERSION:2.0
PRODID:-//Career Development Centre - ECPv5.9.1//NONSGML v1.0//EN
CALSCALE:GREGORIAN
METHOD:PUBLISH
X-WR-CALNAME:Career Development Centre
X-ORIGINAL-URL:https://placements.sscbs.du.ac.in
X-WR-CALDESC:Events for Career Development Centre
BEGIN:VTIMEZONE
TZID:Asia/Kolkata
BEGIN:STANDARD
TZOFFSETFROM:+0530
TZOFFSETTO:+0530
TZNAME:IST
DTSTART:20230101T000000
END:STANDARD
END:VTIMEZONE
BEGIN:VEVENT
DTSTART;TZID=Asia/Kolkata:20230406T120000
DTEND;TZID=Asia/Kolkata:20230406T150000
DTSTAMP:20260421T094019
CREATED:20230405T124911Z
LAST-MODIFIED:20240206T125124Z
UID:7451-1680782400-1680793200@placements.sscbs.du.ac.in
SUMMARY:Speaker session For E-Summit 2023
DESCRIPTION:Event Report
URL:https://placements.sscbs.du.ac.in/event/speaker-session-for-e-summit-2023/
LOCATION:SSCBS Auditorium
ATTACH;FMTTYPE=image/jpeg:https://placements.sscbs.du.ac.in/wp-content/uploads/2024/02/WhatsApp-Image-2024-02-06-at-18.18.33_14169ae4.jpg
END:VEVENT
END:VCALENDAR