BEGIN:VCALENDAR
VERSION:2.0
PRODID:-//Career Development Centre - ECPv5.9.1//NONSGML v1.0//EN
CALSCALE:GREGORIAN
METHOD:PUBLISH
X-WR-CALNAME:Career Development Centre
X-ORIGINAL-URL:https://placements.sscbs.du.ac.in
X-WR-CALDESC:Events for Career Development Centre
BEGIN:VTIMEZONE
TZID:Asia/Kolkata
BEGIN:STANDARD
TZOFFSETFROM:+0530
TZOFFSETTO:+0530
TZNAME:IST
DTSTART:20220101T000000
END:STANDARD
END:VTIMEZONE
BEGIN:VEVENT
DTSTART;TZID=Asia/Kolkata:20221201T120000
DTEND;TZID=Asia/Kolkata:20221201T140000
DTSTAMP:20260421T094020
CREATED:20221201T123523Z
LAST-MODIFIED:20240206T124018Z
UID:7436-1669896000-1669903200@placements.sscbs.du.ac.in
SUMMARY:Project Decrypting Crypto
DESCRIPTION:Event Report
URL:https://placements.sscbs.du.ac.in/event/project-decrypting-crypto/
LOCATION:Online\, Dr. K.N. Katju Marg Rohini Sector 16\, PSP Area IV\, New Delhi\, Delhi\, 110089\, India
ATTACH;FMTTYPE=image/jpeg:https://placements.sscbs.du.ac.in/wp-content/uploads/2024/02/IMG-20220706-WA0018.jpg
END:VEVENT
END:VCALENDAR