BEGIN:VCALENDAR
VERSION:2.0
PRODID:-//Career Development Centre - ECPv5.9.1//NONSGML v1.0//EN
CALSCALE:GREGORIAN
METHOD:PUBLISH
X-WR-CALNAME:Career Development Centre
X-ORIGINAL-URL:https://placements.sscbs.du.ac.in
X-WR-CALDESC:Events for Career Development Centre
BEGIN:VTIMEZONE
TZID:Asia/Kolkata
BEGIN:STANDARD
TZOFFSETFROM:+0530
TZOFFSETTO:+0530
TZNAME:IST
DTSTART:20220101T000000
END:STANDARD
END:VTIMEZONE
BEGIN:VEVENT
DTSTART;TZID=Asia/Kolkata:20221206T130000
DTEND;TZID=Asia/Kolkata:20221206T150000
DTSTAMP:20260421T094020
CREATED:20231219T023151Z
LAST-MODIFIED:20231219T023151Z
UID:7337-1670331600-1670338800@placements.sscbs.du.ac.in
SUMMARY:Path to Dream Job
DESCRIPTION:Mr. Gagan Singh (IIM-A and Delhi College of Engineering Alumnus)\, a\nrenowned Business Coach and Leadership Trainer conducted sessions with\nthe first year students. The session aimed at developing the right skill sets\nto be employed better and get their dream job in future. \nDate: 6th December 2022 \nTime: 1 PM – 3 PM \nPlatform: SSCBS Campus
URL:https://placements.sscbs.du.ac.in/event/path-to-dream-job/
LOCATION:SSCBS\, Rohini\, New Delhi\, India
ATTACH;FMTTYPE=image/jpeg:https://placements.sscbs.du.ac.in/wp-content/uploads/2023/12/GD-PI.jpg
END:VEVENT
END:VCALENDAR