BEGIN:VCALENDAR
VERSION:2.0
PRODID:-//Career Development Centre - ECPv5.9.1//NONSGML v1.0//EN
CALSCALE:GREGORIAN
METHOD:PUBLISH
X-WR-CALNAME:Career Development Centre
X-ORIGINAL-URL:https://placements.sscbs.du.ac.in
X-WR-CALDESC:Events for Career Development Centre
BEGIN:VTIMEZONE
TZID:Asia/Kolkata
BEGIN:STANDARD
TZOFFSETFROM:+0530
TZOFFSETTO:+0530
TZNAME:IST
DTSTART:20230101T000000
END:STANDARD
END:VTIMEZONE
BEGIN:VEVENT
DTSTART;TZID=Asia/Kolkata:20230107T120000
DTEND;TZID=Asia/Kolkata:20230107T140000
DTSTAMP:20260422T002805
CREATED:20230106T052605Z
LAST-MODIFIED:20240207T053011Z
UID:7497-1673092800-1673100000@placements.sscbs.du.ac.in
SUMMARY:Internships\, Guesstimates and Case Resolution
DESCRIPTION:Event Report
URL:https://placements.sscbs.du.ac.in/event/internships-guesstimates-and-case-resolution/
LOCATION:Online\, Dr. K.N. Katju Marg Rohini Sector 16\, PSP Area IV\, New Delhi\, Delhi\, 110089\, India
END:VEVENT
END:VCALENDAR