BEGIN:VCALENDAR
VERSION:2.0
PRODID:-//Career Development Centre - ECPv5.9.1//NONSGML v1.0//EN
CALSCALE:GREGORIAN
METHOD:PUBLISH
X-WR-CALNAME:Career Development Centre
X-ORIGINAL-URL:https://placements.sscbs.du.ac.in
X-WR-CALDESC:Events for Career Development Centre
BEGIN:VTIMEZONE
TZID:Asia/Kolkata
BEGIN:STANDARD
TZOFFSETFROM:+0530
TZOFFSETTO:+0530
TZNAME:IST
DTSTART:20210101T000000
END:STANDARD
END:VTIMEZONE
BEGIN:VEVENT
DTSTART;TZID=Asia/Kolkata:20210902T153000
DTEND;TZID=Asia/Kolkata:20210902T173000
DTSTAMP:20260426T002232
CREATED:20220623T132352Z
LAST-MODIFIED:20220623T132528Z
UID:7182-1630596600-1630603800@placements.sscbs.du.ac.in
SUMMARY:Internal Personal Skills to Ooze Aura & Class
DESCRIPTION:Mr. Gagan Singh (IIM-A and Delhi College of Engineering Alumnus)\, a renowned Business Coach and Leadership Trainer provided students insights about interpersonal skills that students are required to possess to boost their  aura and class. \nDate: 2nd September 2021 \nTime: 3:30 PM – 5:30 PM \nPlatform: Google Meet
URL:https://placements.sscbs.du.ac.in/event/internal-personal-skills-to-ooze-aura-class/
LOCATION:Online\, Dr. K.N. Katju Marg Rohini Sector 16\, PSP Area IV\, New Delhi\, Delhi\, 110089\, India
ATTACH;FMTTYPE=image/jpeg:https://placements.sscbs.du.ac.in/wp-content/uploads/2022/06/WhatsApp-Image-2022-06-23-at-11.34.59-AM.jpeg
END:VEVENT
END:VCALENDAR