BEGIN:VCALENDAR
VERSION:2.0
PRODID:-//Career Development Centre - ECPv5.9.1//NONSGML v1.0//EN
CALSCALE:GREGORIAN
METHOD:PUBLISH
X-WR-CALNAME:Career Development Centre
X-ORIGINAL-URL:https://placements.sscbs.du.ac.in
X-WR-CALDESC:Events for Career Development Centre
BEGIN:VTIMEZONE
TZID:Asia/Kolkata
BEGIN:STANDARD
TZOFFSETFROM:+0530
TZOFFSETTO:+0530
TZNAME:IST
DTSTART:20220101T000000
END:STANDARD
END:VTIMEZONE
BEGIN:VEVENT
DTSTART;TZID=Asia/Kolkata:20220612T153000
DTEND;TZID=Asia/Kolkata:20220612T173000
DTSTAMP:20260423T183741
CREATED:20220623T101732Z
LAST-MODIFIED:20220623T133958Z
UID:7170-1655047800-1655055000@placements.sscbs.du.ac.in
SUMMARY:Future Skills to Boost Employability
DESCRIPTION:Mr. Gagan Singh (IIM-A and Delhi College of Engineering Alumnus)\, a renowned Business Coach and Leadership Trainer provided the students insights about skills that students are required to possess to boost their employability and sail through interviews for prestigious jobs in the future. \nDate: 12th June 2022 \nTime: 3:30 PM – 5:30 PM \nPlatform: Google Meet
URL:https://placements.sscbs.du.ac.in/event/future-skills-to-boost-employability-3/
LOCATION:Online\, Dr. K.N. Katju Marg Rohini Sector 16\, PSP Area IV\, New Delhi\, Delhi\, 110089\, India
ATTACH;FMTTYPE=image/jpeg:https://placements.sscbs.du.ac.in/wp-content/uploads/2022/06/WhatsApp-Image-2022-06-23-at-3.42.49-PM.jpeg
END:VEVENT
END:VCALENDAR