BEGIN:VCALENDAR
VERSION:2.0
PRODID:-//Career Development Centre - ECPv5.9.1//NONSGML v1.0//EN
CALSCALE:GREGORIAN
METHOD:PUBLISH
X-WR-CALNAME:Career Development Centre
X-ORIGINAL-URL:https://placements.sscbs.du.ac.in
X-WR-CALDESC:Events for Career Development Centre
BEGIN:VTIMEZONE
TZID:Asia/Kolkata
BEGIN:STANDARD
TZOFFSETFROM:+0530
TZOFFSETTO:+0530
TZNAME:IST
DTSTART:20220101T000000
END:STANDARD
END:VTIMEZONE
BEGIN:VEVENT
DTSTART;TZID=Asia/Kolkata:20221128T120000
DTEND;TZID=Asia/Kolkata:20221128T130000
DTSTAMP:20260421T094020
CREATED:20231219T020929Z
LAST-MODIFIED:20231219T020929Z
UID:7330-1669636800-1669640400@placements.sscbs.du.ac.in
SUMMARY:Entrepreneurial Mindset
DESCRIPTION:The session on Entrepreneurial Mindset\, conducted by Mr. Akul Jindal\, provided valuable insights into cultivating the mindset required for success in entrepreneurship. Akul Jindal\, an experienced entrepreneur and business leader\, shared practical strategies and mindset shifts essential for navigating the challenges of the entrepreneurial journey. \nDate: 28th November 2022 \nTime: 12 PM – 1 PM \nVenue: 7th Floor Seminar Hall\, SSCBS campus \nEvent Report
URL:https://placements.sscbs.du.ac.in/event/entrepreneurial-mindset/
LOCATION:SSCBS\, Rohini\, New Delhi\, India
ATTACH;FMTTYPE=image/jpeg:https://placements.sscbs.du.ac.in/wp-content/uploads/2023/12/Red-Herring-Ventures.jpg
END:VEVENT
END:VCALENDAR