BEGIN:VCALENDAR
VERSION:2.0
PRODID:-//Career Development Centre - ECPv5.9.1//NONSGML v1.0//EN
CALSCALE:GREGORIAN
METHOD:PUBLISH
X-WR-CALNAME:Career Development Centre
X-ORIGINAL-URL:https://placements.sscbs.du.ac.in
X-WR-CALDESC:Events for Career Development Centre
BEGIN:VTIMEZONE
TZID:Asia/Kolkata
BEGIN:STANDARD
TZOFFSETFROM:+0530
TZOFFSETTO:+0530
TZNAME:IST
DTSTART:20220101T000000
END:STANDARD
END:VTIMEZONE
BEGIN:VEVENT
DTSTART;TZID=Asia/Kolkata:20221111T120000
DTEND;TZID=Asia/Kolkata:20221111T130000
DTSTAMP:20260423T094510
CREATED:20231219T015034Z
LAST-MODIFIED:20231219T023413Z
UID:7320-1668168000-1668171600@placements.sscbs.du.ac.in
SUMMARY:Career Profiling by Nikhil Chainani
DESCRIPTION:The session was be taken by Mr. Nikhil Chainani (SSCBS Alumnus\, founder of Suitable AI with work experience at Nomura and Duff and Phelps) who gave his insights on ‘Career Profiling’. \nDate: 11th November 2022 \nTime: 12 PM – 1 PM \nVenue: Akash Ganga (Auditorium)\, SSCBS campus
URL:https://placements.sscbs.du.ac.in/event/career-profiling-by-nikhil-chainani/
LOCATION:SSCBS\, Rohini\, New Delhi\, India
ATTACH;FMTTYPE=image/jpeg:https://placements.sscbs.du.ac.in/wp-content/uploads/2023/12/Nikhil-Chainani.jpg
END:VEVENT
END:VCALENDAR