BEGIN:VCALENDAR
VERSION:2.0
PRODID:-//Career Development Centre - ECPv5.9.1//NONSGML v1.0//EN
CALSCALE:GREGORIAN
METHOD:PUBLISH
X-WR-CALNAME:Career Development Centre
X-ORIGINAL-URL:https://placements.sscbs.du.ac.in
X-WR-CALDESC:Events for Career Development Centre
BEGIN:VTIMEZONE
TZID:Asia/Kolkata
BEGIN:STANDARD
TZOFFSETFROM:+0530
TZOFFSETTO:+0530
TZNAME:IST
DTSTART:20220101T000000
END:STANDARD
END:VTIMEZONE
BEGIN:VEVENT
DTSTART;TZID=Asia/Kolkata:20221128T080000
DTEND;TZID=Asia/Kolkata:20221128T170000
DTSTAMP:20260423T220403
CREATED:20221126T115954Z
LAST-MODIFIED:20240206T120446Z
UID:7383-1669622400-1669654800@placements.sscbs.du.ac.in
SUMMARY:College\, Career and Choices
DESCRIPTION:Event Report
URL:https://placements.sscbs.du.ac.in/event/7383/
LOCATION:7th Floor Seminar Hall
ATTACH;FMTTYPE=image/jpeg:https://placements.sscbs.du.ac.in/wp-content/uploads/2024/02/WhatsApp-Image-2023-07-27-at-11.00.22-PM-1.jpeg
END:VEVENT
END:VCALENDAR