BEGIN:VCALENDAR
VERSION:2.0
PRODID:-//Career Development Centre - ECPv5.9.1//NONSGML v1.0//EN
CALSCALE:GREGORIAN
METHOD:PUBLISH
X-WR-CALNAME:Career Development Centre
X-ORIGINAL-URL:http://placements.sscbs.du.ac.in
X-WR-CALDESC:Events for Career Development Centre
BEGIN:VTIMEZONE
TZID:UTC
BEGIN:STANDARD
TZOFFSETFROM:+0000
TZOFFSETTO:+0000
TZNAME:UTC
DTSTART:20210101T000000
END:STANDARD
END:VTIMEZONE
BEGIN:VEVENT
DTSTART;TZID=UTC:20210512T130000
DTEND;TZID=UTC:20210512T150000
DTSTAMP:20260422T175319
CREATED:20210510T063721Z
LAST-MODIFIED:20210928T071842Z
UID:7058-1620824400-1620831600@placements.sscbs.du.ac.in
SUMMARY:Entrepreneurship Sessions
DESCRIPTION:The sessions will be organized to inform the students about the startup culture\nand inspire them to set up their own ventures. \nDate: 12th May 2021 \nTime: 1 PM – 3 PM \nPlatform: Google Meet \nEvent Report
URL:http://placements.sscbs.du.ac.in/event/entrepreneurship-sessions/
LOCATION:Online\, Dr. K.N. Katju Marg Rohini Sector 16\, PSP Area IV\, New Delhi\, Delhi\, 110089\, India
ATTACH;FMTTYPE=image/jpeg:http://placements.sscbs.du.ac.in/wp-content/uploads/2021/09/IMG_20210928_173301.jpg
END:VEVENT
END:VCALENDAR