BEGIN:VCALENDAR
VERSION:2.0
PRODID:-//Career Development Centre - ECPv5.9.1//NONSGML v1.0//EN
CALSCALE:GREGORIAN
METHOD:PUBLISH
X-WR-CALNAME:Career Development Centre
X-ORIGINAL-URL:http://placements.sscbs.du.ac.in
X-WR-CALDESC:Events for Career Development Centre
BEGIN:VTIMEZONE
TZID:UTC
BEGIN:STANDARD
TZOFFSETFROM:+0000
TZOFFSETTO:+0000
TZNAME:UTC
DTSTART:20210101T000000
END:STANDARD
END:VTIMEZONE
BEGIN:VEVENT
DTSTART;TZID=UTC:20210206T200000
DTEND;TZID=UTC:20210206T210000
DTSTAMP:20260420T042500
CREATED:20210204T053053Z
LAST-MODIFIED:20211001T191745Z
UID:7050-1612641600-1612645200@placements.sscbs.du.ac.in
SUMMARY:Ask Me Anything Session
DESCRIPTION:Mr. Akul Jindal\, Fellow at Kalaari Capital and Ms. Nishtha Sethi\, Portfolio Analyst at Social Alpha will conduct an Ask Me Anything (AMA) session on finding the right set of opportunities for live projects\, internships and placements suited to students’ unique strengths and capabilities and for profile for deferred MBA admissions. \nDate: 6th February 2021 \nTime: 8 PM – 9 PM \nPlatform: Google Meet \nEvent Report
URL:http://placements.sscbs.du.ac.in/event/ask-me-anything-session/
LOCATION:Online\, Dr. K.N. Katju Marg Rohini Sector 16\, PSP Area IV\, New Delhi\, Delhi\, 110089\, India
ATTACH;FMTTYPE=image/jpeg:http://placements.sscbs.du.ac.in/wp-content/uploads/2021/02/AMA_.jpeg
END:VEVENT
END:VCALENDAR